BEGIN:VCALENDAR
PRODID:-//kirchenweb.ch gmbh//veranstaltungsausgabe v2.0//DE
VERSION:2.0
METHOD:PUBLISH
BEGIN:VEVENT
DTSTART:20261031T130000Z
DTEND:20261031T220000Z
LOCATION:Kirchgemeindehaus Meinisberg\, Hintere Gasse 7\, 2554 Meinisberg
TRANSP:OPAQUE
SEQUENCE:0
UID:6327-veranstaltung@gottstatt.ch
DTSTAMP:20260417T060543Z
DESCRIPTION:Kontakt: Esthi Fröhli\n\nWeitere Infos:
  https://www.gottstatt.ch/veranstaltung/6327
SUMMARY:Vorbereitung Frouemorge
PRIORITY:5
X-MICROSOFT-CDO-IMPORTANCE:1
CLASS:PUBLIC
END:VEVENT
END:VCALENDAR
