BEGIN:VCALENDAR
PRODID:-//kirchenweb.ch gmbh//veranstaltungsausgabe v2.0//DE
VERSION:2.0
METHOD:PUBLISH
BEGIN:VEVENT
DTSTART:20260412T073000Z
DTEND:20260412T091500Z
LOCATION:kirchgemeindehaus meinisberg\, \,
TRANSP:OPAQUE
SEQUENCE:0
UID:6308-veranstaltung@gottstatt.ch
DTSTAMP:20260422T095455Z
DESCRIPTION:Während den Gottesdiensten am Morgen bieten wir ein
  Kinderprogramm und einen Hüetidienst an. Wir starten jeweils mit den
  Erwachsenen im Gottesdienst.\n\nWir freuen uns auf euch.\n\nKontakt:
  homepage.kreator@gottstatt.ch\n\nWeitere Infos:
  https://www.gottstatt.ch/veranstaltung/6308
SUMMARY:Kidstreff
PRIORITY:5
X-MICROSOFT-CDO-IMPORTANCE:1
CLASS:PUBLIC
END:VEVENT
END:VCALENDAR
