BEGIN:VCALENDAR
PRODID:-//kirchenweb.ch gmbh//veranstaltungsausgabe v2.0//DE
VERSION:2.0
METHOD:PUBLISH
BEGIN:VEVENT
DTSTART:20260828T180000Z
DTEND:20260828T203000Z
LOCATION:AVC - Safnern\, \,
TRANSP:OPAQUE
SEQUENCE:0
UID:6234-veranstaltung@gottstatt.ch
DTSTAMP:20260317T000359Z
DESCRIPTION:Victor Kulyak im AVC\n\nKontakt: Hans Jürg Schlunegger\n
 \nWeitere Infos: https://www.gottstatt.ch/veranstaltung/6234
SUMMARY:Locus Dei - Victor Kulyak im AVC
PRIORITY:5
X-MICROSOFT-CDO-IMPORTANCE:1
CLASS:PUBLIC
END:VEVENT
END:VCALENDAR
