BEGIN:VCALENDAR
PRODID:-//kirchenweb.ch gmbh//veranstaltungsausgabe v2.0//DE
VERSION:2.0
METHOD:PUBLISH
BEGIN:VEVENT
DTSTART;VALUE=DATE:20260718
DTEND;VALUE=DATE:20260719
LOCATION:Fürstenhof Natz\, Südtirol\, Gottstattstrasse 29\, 2552 Orpund
TRANSP:OPAQUE
SEQUENCE:0
UID:6226-veranstaltung@gottstatt.ch
DTSTAMP:20260316T234442Z
DESCRIPTION:Sommerwoche in Natz im Südtirol\n\nKontakt: Hans Jürg
  Schlunegger\n\nWeitere Infos: https://www.gottstatt.ch/veranstaltung/6226
SUMMARY:Locus Dei - Sommerwoche in Natz
PRIORITY:5
X-MICROSOFT-CDO-IMPORTANCE:1
CLASS:PUBLIC
END:VEVENT
END:VCALENDAR
