BEGIN:VCALENDAR
PRODID:-//kirchenweb.ch gmbh//veranstaltungsausgabe v2.0//DE
VERSION:2.0
METHOD:PUBLISH
BEGIN:VEVENT
DTSTART:20260703T140000Z
DTEND:20260703T200000Z
LOCATION:Kirchgemeindehaus\, Gottstattstrasse 29\, 2552 Orpund
TRANSP:OPAQUE
SEQUENCE:0
UID:6225-veranstaltung@gottstatt.ch
DTSTAMP:20260316T233132Z
DESCRIPTION:Outdoor: in the camp\nBad und Grill auf dem (Meinis-)Berg\nab
  16 Uhr\n\nKontakt: Hans Jürg Schlunegger\n\nWeitere Infos:
  https://www.gottstatt.ch/veranstaltung/6225
SUMMARY:Locus Dei - Outdoor: in the camp
PRIORITY:5
X-MICROSOFT-CDO-IMPORTANCE:1
CLASS:PUBLIC
END:VEVENT
END:VCALENDAR
