BEGIN:VCALENDAR
PRODID:-//kirchenweb.ch gmbh//veranstaltungsausgabe v2.0//DE
VERSION:2.0
METHOD:PUBLISH
BEGIN:VEVENT
DTSTART:20261023T180000Z
DTEND:20261023T203000Z
LOCATION:Kirchgemeindehaus\, \,
TRANSP:OPAQUE
SEQUENCE:0
UID:6223-veranstaltung@gottstatt.ch
DTSTAMP:20260420T094310Z
DESCRIPTION:Bibelabend\n\nKontakt: Hans Jürg Schlunegger\n\nWeitere
  Infos: https://www.gottstatt.ch/veranstaltung/6223
SUMMARY:Locus Dei - Bibelabend
PRIORITY:5
X-MICROSOFT-CDO-IMPORTANCE:1
CLASS:PUBLIC
END:VEVENT
END:VCALENDAR
