BEGIN:VCALENDAR
PRODID:-//kirchenweb.ch gmbh//veranstaltungsausgabe v2.0//DE
VERSION:2.0
METHOD:PUBLISH
BEGIN:VEVENT
DTSTART:20260918T180000Z
DTEND:20260918T203000Z
LOCATION:Kirchgemeindehaus\, \,
TRANSP:OPAQUE
SEQUENCE:0
UID:6221-veranstaltung@gottstatt.ch
DTSTAMP:20260317T000825Z
DESCRIPTION:Charakterköpfe der Bibel\n\nKontakt: Hans Jürg Schlunegger\n
 \nWeitere Infos: https://www.gottstatt.ch/veranstaltung/6221
SUMMARY:Locus Dei - Charakterköpfe der Bibel
PRIORITY:5
X-MICROSOFT-CDO-IMPORTANCE:1
CLASS:PUBLIC
END:VEVENT
END:VCALENDAR
