BEGIN:VCALENDAR
PRODID:-//kirchenweb.ch gmbh//veranstaltungsausgabe v2.0//DE
VERSION:2.0
METHOD:PUBLISH
BEGIN:VEVENT
DTSTART:20260904T180000Z
DTEND:20260904T203000Z
LOCATION:Kirchgemeindehaus\, \,
TRANSP:OPAQUE
SEQUENCE:0
UID:6220-veranstaltung@gottstatt.ch
DTSTAMP:20260317T000537Z
DESCRIPTION:Jesus Nachfolge praktisch\n\nKontakt: Hans Jürg Schlunegger\n
 \nWeitere Infos: https://www.gottstatt.ch/veranstaltung/6220
SUMMARY:Locus Dei - Jesus Nachfolge praktisch
PRIORITY:5
X-MICROSOFT-CDO-IMPORTANCE:1
CLASS:PUBLIC
END:VEVENT
END:VCALENDAR
