BEGIN:VCALENDAR
PRODID:-//kirchenweb.ch gmbh//veranstaltungsausgabe v2.0//DE
VERSION:2.0
METHOD:PUBLISH
BEGIN:VEVENT
DTSTART:20260731T180000Z
DTEND:20260731T203000Z
LOCATION:Kirchgemeindehaus\, \,
TRANSP:OPAQUE
SEQUENCE:0
UID:6217-veranstaltung@gottstatt.ch
DTSTAMP:20260316T234905Z
DESCRIPTION:Wann lebten eigentlich Manni und Sid?\n\nKontakt: Hans Jürg
  Schlunegger\n\nWeitere Infos: https://www.gottstatt.ch/veranstaltung/6217
SUMMARY:Locus Dei - Wann lebten eigentlich Manni und Sid?
PRIORITY:5
X-MICROSOFT-CDO-IMPORTANCE:1
CLASS:PUBLIC
END:VEVENT
END:VCALENDAR
