BEGIN:VCALENDAR
PRODID:-//kirchenweb.ch gmbh//veranstaltungsausgabe v2.0//DE
VERSION:2.0
METHOD:PUBLISH
BEGIN:VEVENT
DTSTART:20260626T180000Z
DTEND:20260626T203000Z
LOCATION:Kirchgemeindehaus\, \,
TRANSP:OPAQUE
SEQUENCE:0
UID:6216-veranstaltung@gottstatt.ch
DTSTAMP:20260316T232457Z
DESCRIPTION:Andacht Pf. Preiser\nSiehe\, ich mache alles neu\n\nKontakt:
  Hans Jürg Schlunegger\n\nWeitere Infos:
  https://www.gottstatt.ch/veranstaltung/6216
SUMMARY:Locus Dei - Andacht Pf. Preiser
PRIORITY:5
X-MICROSOFT-CDO-IMPORTANCE:1
CLASS:PUBLIC
END:VEVENT
END:VCALENDAR
