BEGIN:VCALENDAR
PRODID:-//kirchenweb.ch gmbh//veranstaltungsausgabe v2.0//DE
VERSION:2.0
METHOD:PUBLISH
BEGIN:VEVENT
DTSTART:20260619T180000Z
DTEND:20260619T203000Z
LOCATION:Kirchgemeindehaus\, \,
TRANSP:OPAQUE
SEQUENCE:0
UID:6215-veranstaltung@gottstatt.ch
DTSTAMP:20260316T232231Z
DESCRIPTION:Erfahrungen in Lebenskrisen\n\nKontakt: Hans Jürg Schlunegger
 \n\nWeitere Infos: https://www.gottstatt.ch/veranstaltung/6215
SUMMARY:Locus Dei - Erfahrungen in Lebenskrisen
PRIORITY:5
X-MICROSOFT-CDO-IMPORTANCE:1
CLASS:PUBLIC
END:VEVENT
END:VCALENDAR
