BEGIN:VCALENDAR
PRODID:-//kirchenweb.ch gmbh//veranstaltungsausgabe v2.0//DE
VERSION:2.0
METHOD:PUBLISH
BEGIN:VEVENT
DTSTART:20261016T173000Z
DTEND:20261016T203000Z
LOCATION:Kirchgemeindehaus\, Gottstattstrasse 29\, 2552 Orpund
TRANSP:OPAQUE
SEQUENCE:0
UID:6214-veranstaltung@gottstatt.ch
DTSTAMP:20260420T093606Z
DESCRIPTION:Die Leviten lesen\n\nLiturgie lieben lernen\, anschliessend
  Dessert\n\nAchtung: Start schon um 19:30\n\nKontakt: Hans Jürg
  Schlunegger\n\nWeitere Infos: https://www.gottstatt.ch/veranstaltung/6214
SUMMARY:Locus Dei - Die Leviten lesen
PRIORITY:5
X-MICROSOFT-CDO-IMPORTANCE:1
CLASS:PUBLIC
END:VEVENT
END:VCALENDAR
