BEGIN:VCALENDAR
PRODID:-//kirchenweb.ch gmbh//veranstaltungsausgabe v2.0//DE
VERSION:2.0
METHOD:PUBLISH
BEGIN:VEVENT
DTSTART:20260612T180000Z
DTEND:20260612T203000Z
LOCATION:Kirchgemeindehaus\, Gottstattstrasse 29\, 2552 Orpund
TRANSP:OPAQUE
SEQUENCE:0
UID:6210-veranstaltung@gottstatt.ch
DTSTAMP:20260316T230644Z
DESCRIPTION:Bibelabend\n\nKontakt: Hans Jürg Schlunegger\n\nWeitere
  Infos: https://www.gottstatt.ch/veranstaltung/6210
SUMMARY:Locus Dei - Bibelabend
PRIORITY:5
X-MICROSOFT-CDO-IMPORTANCE:1
CLASS:PUBLIC
END:VEVENT
END:VCALENDAR
