BEGIN:VCALENDAR
PRODID:-//kirchenweb.ch gmbh//veranstaltungsausgabe v2.0//DE
VERSION:2.0
METHOD:PUBLISH
BEGIN:VEVENT
DTSTART:20261112T131500Z
DTEND:20261112T150000Z
LOCATION:Kirchgemeindehaus Meinisberg\, Hintere Gasse 7\, 2554 Meinisberg
TRANSP:OPAQUE
SEQUENCE:0
UID:6149-veranstaltung@gottstatt.ch
DTSTAMP:20260323T080658Z
DESCRIPTION:Kontakt: Ruth Stettler\, \nPfr. Adrian Müller\n\nWeitere
  Infos: https://www.gottstatt.ch/veranstaltung/6149
SUMMARY:Senioren Höck
PRIORITY:5
X-MICROSOFT-CDO-IMPORTANCE:1
CLASS:PUBLIC
END:VEVENT
END:VCALENDAR
