BEGIN:VCALENDAR
PRODID:-//kirchenweb.ch gmbh//veranstaltungsausgabe v2.0//DE
VERSION:2.0
METHOD:PUBLISH
BEGIN:VEVENT
DTSTART:20261015T121500Z
DTEND:20261015T140000Z
LOCATION:Kirchgemeindehaus\, Gottstattstrasse 29\, 2552 Orpund
TRANSP:OPAQUE
SEQUENCE:0
UID:6148-veranstaltung@gottstatt.ch
DTSTAMP:20260323T080632Z
DESCRIPTION:Kontakt: Maya Anliker\, \nPfrn. Esther Wiesmann\n\nWeitere
  Infos: https://www.gottstatt.ch/veranstaltung/6148
SUMMARY:Senioren Höck
PRIORITY:5
X-MICROSOFT-CDO-IMPORTANCE:1
CLASS:PUBLIC
END:VEVENT
END:VCALENDAR
