BEGIN:VCALENDAR
PRODID:-//kirchenweb.ch gmbh//veranstaltungsausgabe v2.0//DE
VERSION:2.0
METHOD:PUBLISH
BEGIN:VEVENT
DTSTART:20260917T121500Z
DTEND:20260917T140000Z
LOCATION:Kirchgemeindehaus Meinisberg\, Hintere Gasse 7\, 2554 Meinisberg
TRANSP:OPAQUE
SEQUENCE:0
UID:6147-veranstaltung@gottstatt.ch
DTSTAMP:20260323T080615Z
DESCRIPTION:Kontakt: Ruth Stettler\, Philippe Otti\n\nWeitere Infos:
  https://www.gottstatt.ch/veranstaltung/6147
SUMMARY:Senioren Höck
PRIORITY:5
X-MICROSOFT-CDO-IMPORTANCE:1
CLASS:PUBLIC
END:VEVENT
END:VCALENDAR
