BEGIN:VCALENDAR
PRODID:-//kirchenweb.ch gmbh//veranstaltungsausgabe v2.0//DE
VERSION:2.0
METHOD:PUBLISH
BEGIN:VEVENT
DTSTART:20261107T183000Z
DTEND:20261107T193000Z
LOCATION:Kirche\, Gottstattstrasse 29\, 2552 Orpund
TRANSP:OPAQUE
SEQUENCE:0
UID:6141-veranstaltung@gottstatt.ch
DTSTAMP:20260126T090556Z
DESCRIPTION:Kontakt: Heidrun Kunz\n\n\n\nWeitere Infos:
  https://www.gottstatt.ch/veranstaltung/6141
SUMMARY:Konzert Querflötenensemble Tutti Flutti
PRIORITY:5
X-MICROSOFT-CDO-IMPORTANCE:1
CLASS:PUBLIC
END:VEVENT
END:VCALENDAR
