BEGIN:VCALENDAR
PRODID:-//kirchenweb.ch gmbh//veranstaltungsausgabe v2.0//DE
VERSION:2.0
METHOD:PUBLISH
BEGIN:VEVENT
DTSTART:20260308T084500Z
DTEND:20260308T101500Z
LOCATION:Kirche\, Gottstattstrasse 29\, 2552 Orpund
TRANSP:OPAQUE
SEQUENCE:0
UID:6133-veranstaltung@gottstatt.ch
DTSTAMP:20260116T171756Z
DESCRIPTION:Während den Gottesdiensten am Morgen bieten wir ein
  Kinderprogramm und einen Hüetidienst an. Wir starten jeweils mit den
  Erwachsenen im Gottesdienst.\n\nWir freuen uns auf euch.\n\nKontakt:
  noemi.toggweiler@gottstatt.ch\n\nWeitere Infos:
  https://www.gottstatt.ch/veranstaltung/6133
SUMMARY:Kidstreff
PRIORITY:5
X-MICROSOFT-CDO-IMPORTANCE:1
CLASS:PUBLIC
END:VEVENT
END:VCALENDAR
