BEGIN:VCALENDAR
PRODID:-//kirchenweb.ch gmbh//veranstaltungsausgabe v2.0//DE
VERSION:2.0
METHOD:PUBLISH
BEGIN:VEVENT
DTSTART:20260222T084500Z
DTEND:20260222T101500Z
LOCATION:Kirche\, Gottstattstrasse 29\, 2552 Orpund
TRANSP:OPAQUE
SEQUENCE:0
UID:6131-veranstaltung@gottstatt.ch
DTSTAMP:20260116T171710Z
DESCRIPTION:Während den Gottesdiensten am Morgen bieten wir ein
  Kinderprogramm und einen Hüetidienst an. Wir starten jeweils mit den
  Erwachsenen im Gottesdienst.\n\nWir freuen uns auf euch.\n\nKontakt:
  noemi.toggweiler@gottstatt.ch\n\nWeitere Infos:
  https://www.gottstatt.ch/veranstaltung/6131
SUMMARY:Kidstreff
PRIORITY:5
X-MICROSOFT-CDO-IMPORTANCE:1
CLASS:PUBLIC
END:VEVENT
END:VCALENDAR
