BEGIN:VCALENDAR
PRODID:-//kirchenweb.ch gmbh//veranstaltungsausgabe v2.0//DE
VERSION:2.0
METHOD:PUBLISH
BEGIN:VEVENT
DTSTART:20260215T084500Z
DTEND:20260215T101500Z
LOCATION:Kirche\, Gottstattstrasse 29\, 2552 Orpund
TRANSP:OPAQUE
SEQUENCE:0
UID:6130-veranstaltung@gottstatt.ch
DTSTAMP:20260213T080213Z
DESCRIPTION:Während den Gottesdiensten am Morgen bieten einen
  Hüetidienst an. Wir starten jeweils mit den Erwachsenen im Gottesdienst.
 \n\nWir freuen uns auf euch.\n\nKontakt: noemi.toggweiler@gottstatt.ch\n
 \nWeitere Infos: https://www.gottstatt.ch/veranstaltung/6130
SUMMARY:Chinderhüeti während dem Gottesdienst
PRIORITY:5
X-MICROSOFT-CDO-IMPORTANCE:1
CLASS:PUBLIC
END:VEVENT
END:VCALENDAR
