BEGIN:VCALENDAR
PRODID:-//kirchenweb.ch gmbh//veranstaltungsausgabe v2.0//DE
VERSION:2.0
METHOD:PUBLISH
BEGIN:VEVENT
DTSTART:20261211T060000Z
DTEND:20261211T064500Z
LOCATION:Kirche\, Gottstattstrasse 29\, 2552 Orpund
TRANSP:OPAQUE
SEQUENCE:0
UID:6125-veranstaltung@gottstatt.ch
DTSTAMP:20260114T081102Z
DESCRIPTION:Kontakt: homepage.kreator@gottstatt.ch\n\nWeitere Infos:
  https://www.gottstatt.ch/veranstaltung/6125
SUMMARY:Mitarbeitergebet
PRIORITY:5
X-MICROSOFT-CDO-IMPORTANCE:1
CLASS:PUBLIC
END:VEVENT
END:VCALENDAR
