BEGIN:VCALENDAR
PRODID:-//kirchenweb.ch gmbh//veranstaltungsausgabe v2.0//DE
VERSION:2.0
METHOD:PUBLISH
BEGIN:VEVENT
DTSTART:20260417T050000Z
DTEND:20260417T054500Z
LOCATION:Kirche\, Gottstattstrasse 29\, 2552 Orpund
TRANSP:OPAQUE
SEQUENCE:0
UID:6094-veranstaltung@gottstatt.ch
DTSTAMP:20260114T081054Z
DESCRIPTION:Kontakt: homepage.kreator@gottstatt.ch\n\nWeitere Infos:
  https://www.gottstatt.ch/veranstaltung/6094
SUMMARY:Mitarbeitergebet
PRIORITY:5
X-MICROSOFT-CDO-IMPORTANCE:1
CLASS:PUBLIC
END:VEVENT
END:VCALENDAR
