BEGIN:VCALENDAR
PRODID:-//kirchenweb.ch gmbh//veranstaltungsausgabe v2.0//DE
VERSION:2.0
METHOD:PUBLISH
BEGIN:VEVENT
DTSTART:20260211T180000Z
DTEND:20260211T220000Z
LOCATION:Meinisberg Kirchgemeindehaus\, \,
TRANSP:OPAQUE
SEQUENCE:0
UID:6028-veranstaltung@gottstatt.ch
DTSTAMP:20260108T135607Z
DESCRIPTION:Kontakt: thomas.eigenheer@gottstatt.ch\n\nWeitere Infos:
  https://www.gottstatt.ch/veranstaltung/6028
SUMMARY:Marriageweek Vortrag: Heilsame Beziehungen
PRIORITY:5
X-MICROSOFT-CDO-IMPORTANCE:1
CLASS:PUBLIC
END:VEVENT
END:VCALENDAR
