BEGIN:VCALENDAR
PRODID:-//kirchenweb.ch gmbh//veranstaltungsausgabe v2.0//DE
VERSION:2.0
METHOD:PUBLISH
BEGIN:VEVENT
DTSTART:20260506T160000Z
DTEND:20260506T183000Z
LOCATION:Kirchgemeindehaus\, Gottstattstrasse 29\, 2552 Orpund
TRANSP:OPAQUE
SEQUENCE:0
UID:6019-veranstaltung@gottstatt.ch
DTSTAMP:20251219T084753Z
DESCRIPTION:Kontakt: Pfr. Philippe Otti\n\nWeitere Infos:
  https://www.gottstatt.ch/veranstaltung/6019
SUMMARY:KUW 8.Klasse
PRIORITY:5
X-MICROSOFT-CDO-IMPORTANCE:1
CLASS:PUBLIC
END:VEVENT
END:VCALENDAR
