BEGIN:VCALENDAR
PRODID:-//kirchenweb.ch gmbh//veranstaltungsausgabe v2.0//DE
VERSION:2.0
METHOD:PUBLISH
BEGIN:VEVENT
DTSTART:20261104T080000Z
DTEND:20261104T110000Z
LOCATION:Kirchgemeindehaus\, Gottstattstrasse 29\, 2552 Orpund
TRANSP:OPAQUE
SEQUENCE:0
UID:6009-veranstaltung@gottstatt.ch
DTSTAMP:20260108T151011Z
DESCRIPTION:ZU beginn des neuen Jahres beginnen wir mit der Abschrift des
  Neuen Testaments. Sie sind eingeladen\, eines oder mehrere Kapitel
  beizusteuern. Die Worte bewusst wahrzunehmen durch das Schreiben und
  entdecken\, wie die zu uns sprechen.\n\nWie schön\, wenn Sie dabei sind!
 \n\nUnd so gehts:\nIm Kirchgemeindehaus steht ein Tischlein mit allem
  nötigen Zubehör. Papier\, Schreiber und eine Bibel. Sie können in Ruhe
  jeweils am Mittwoch von 9:00-11:00\, 14:00-17:00 und 19:00-21:00 daran
  schreiben.\n\nKontakt: Pfr. Adrian Müller\n\nWeitere Infos:
  https://www.gottstatt.ch/veranstaltung/6009
SUMMARY:Jahresprojekt "Bibelschreiben
PRIORITY:5
X-MICROSOFT-CDO-IMPORTANCE:1
CLASS:PUBLIC
END:VEVENT
END:VCALENDAR
