BEGIN:VCALENDAR
PRODID:-//kirchenweb.ch gmbh//veranstaltungsausgabe v2.0//DE
VERSION:2.0
METHOD:PUBLISH
BEGIN:VEVENT
DTSTART:20260203T173000Z
DTEND:20260203T203000Z
LOCATION:Kirchgemeindehaus\, Gottstattstrasse 29\, 2552 Orpund
TRANSP:OPAQUE
SEQUENCE:0
UID:5939-veranstaltung@gottstatt.ch
DTSTAMP:20260123T074922Z
DESCRIPTION:Treffen der Kleingruppen und Interessierte\, junge Erwachsene.
  \nMit Abendessen\, Lobpreis\, und kleinem Input. \n\nKontakt: Nicole
  Jakob\n\n\n\nWeitere Infos: https://www.gottstatt.ch/veranstaltung/5939
SUMMARY:Gottstatt Community
PRIORITY:5
X-MICROSOFT-CDO-IMPORTANCE:1
CLASS:PUBLIC
END:VEVENT
END:VCALENDAR
