BEGIN:VCALENDAR
PRODID:-//kirchenweb.ch gmbh//veranstaltungsausgabe v2.0//DE
VERSION:2.0
METHOD:PUBLISH
BEGIN:VEVENT
DTSTART:20260425T120000Z
DTEND:20260425T150000Z
LOCATION:Kirchgemeindehaus\, Gottstattstrasse 29\, 2552 Orpund
TRANSP:OPAQUE
SEQUENCE:0
UID:5926-veranstaltung@gottstatt.ch
DTSTAMP:20251209T101542Z
DESCRIPTION:Wir treffen uns jeden zweiten Samstag von 14 bis 17 Uhr hinter
  der Kirche Gottstatt in Orpund. Alle 5- bis 14- jährigen Kinder sind
  herzlich willkommen!\n\nMehr Infos: https://www.jungschar-orpund.com/\n
 \nKontakt: Martina Weber\n\nWeitere Infos:
  https://www.gottstatt.ch/veranstaltung/5926
SUMMARY:Jungschar
PRIORITY:5
X-MICROSOFT-CDO-IMPORTANCE:1
CLASS:PUBLIC
END:VEVENT
END:VCALENDAR
