BEGIN:VCALENDAR
PRODID:-//kirchenweb.ch gmbh//veranstaltungsausgabe v2.0//DE
VERSION:2.0
METHOD:PUBLISH
BEGIN:VEVENT
DTSTART:20260829T173000Z
DTEND:20260829T200000Z
LOCATION:Kirchgemeindehaus\, Gottstattstrasse 29\, 2552 Orpund
TRANSP:OPAQUE
SEQUENCE:0
UID:5914-veranstaltung@gottstatt.ch
DTSTAMP:20251209T101328Z
DESCRIPTION:Für alle von der 7. Klasse bis 20.\n\nDu bist herzlich
  eingeladen\, bring doch deine Freunde mit.\n\nKontakt: Daniel Toggweiler
 \n\nWeitere Infos: https://www.gottstatt.ch/veranstaltung/5914
SUMMARY:Splash!
PRIORITY:5
X-MICROSOFT-CDO-IMPORTANCE:1
CLASS:PUBLIC
END:VEVENT
END:VCALENDAR
