BEGIN:VCALENDAR
PRODID:-//kirchenweb.ch gmbh//veranstaltungsausgabe v2.0//DE
VERSION:2.0
METHOD:PUBLISH
BEGIN:VEVENT
DTSTART:20261021T160000Z
DTEND:20261021T183000Z
LOCATION:Kirchgemeindehaus\, Gottstattstrasse 29\, 2552 Orpund
TRANSP:OPAQUE
SEQUENCE:0
UID:5900-veranstaltung@gottstatt.ch
DTSTAMP:20251205T105042Z
DESCRIPTION:Kontakt: Pfr Philippe Otti\n\nWeitere Infos:
  https://www.gottstatt.ch/veranstaltung/5900
SUMMARY:KUW 7. Klasse
PRIORITY:5
X-MICROSOFT-CDO-IMPORTANCE:1
CLASS:PUBLIC
END:VEVENT
END:VCALENDAR
