BEGIN:VCALENDAR
PRODID:-//kirchenweb.ch gmbh//veranstaltungsausgabe v2.0//DE
VERSION:2.0
METHOD:PUBLISH
BEGIN:VEVENT
DTSTART:20260617T070000Z
DTEND:20260617T080000Z
LOCATION:Kirchgemeindehaus\, Gottstattstrasse 29\, 2552 Orpund
TRANSP:OPAQUE
SEQUENCE:0
UID:5893-veranstaltung@gottstatt.ch
DTSTAMP:20260108T151527Z
DESCRIPTION:Kontakt: Pfrn. Esther Wiesmann\nFranziska Moser\n\nWeitere
  Infos: https://www.gottstatt.ch/veranstaltung/5893
SUMMARY:Wort\, Stille\, Gesang
PRIORITY:5
X-MICROSOFT-CDO-IMPORTANCE:1
CLASS:PUBLIC
END:VEVENT
END:VCALENDAR
