BEGIN:VCALENDAR
PRODID:-//kirchenweb.ch gmbh//veranstaltungsausgabe v2.0//DE
VERSION:2.0
METHOD:PUBLISH
BEGIN:VEVENT
DTSTART:20260513T140000Z
DTEND:20260513T160000Z
LOCATION:Kirchgemeindehaus Meinisberg\, Hintere Gasse 7\, 2554 Meinisberg
TRANSP:OPAQUE
SEQUENCE:0
UID:5882-veranstaltung@gottstatt.ch
DTSTAMP:20251202T073523Z
DESCRIPTION:Kontakt: Pfrin. Brigitta Frey\n\nWeitere Infos:
  https://www.gottstatt.ch/veranstaltung/5882
SUMMARY:KUW 9. Klasse Meinisberg Hauptprobe
PRIORITY:5
X-MICROSOFT-CDO-IMPORTANCE:1
CLASS:PUBLIC
END:VEVENT
END:VCALENDAR
