BEGIN:VCALENDAR
PRODID:-//kirchenweb.ch gmbh//veranstaltungsausgabe v2.0//DE
VERSION:2.0
METHOD:PUBLISH
BEGIN:VEVENT
DTSTART:20260522T180000Z
DTEND:20260522T200000Z
LOCATION:Kirchgemeindehaus\, Gottstattstrasse 29\, 2552 Orpund
TRANSP:OPAQUE
SEQUENCE:0
UID:5869-veranstaltung@gottstatt.ch
DTSTAMP:20251125T235400Z
DESCRIPTION:Grill&Chill in Gottstatt\n\nKontakt: Hans Jürg Schlunegger\n
 \nWeitere Infos: https://www.gottstatt.ch/veranstaltung/5869
SUMMARY:Locus Dei - Grill&Chill in Gottstatt
PRIORITY:5
X-MICROSOFT-CDO-IMPORTANCE:1
CLASS:PUBLIC
END:VEVENT
END:VCALENDAR
