BEGIN:VCALENDAR
PRODID:-//kirchenweb.ch gmbh//veranstaltungsausgabe v2.0//DE
VERSION:2.0
METHOD:PUBLISH
BEGIN:VEVENT
DTSTART:20260501T180000Z
DTEND:20260501T200000Z
LOCATION:Kirchgemeindehaus\, Gottstattstrasse 29\, 2552 Orpund
TRANSP:OPAQUE
SEQUENCE:0
UID:5868-veranstaltung@gottstatt.ch
DTSTAMP:20251124T003757Z
DESCRIPTION:Locus Dei - Olaf Latzel & Sport\n\nKontakt: Hans Jürg
  Schlunegger\n\nWeitere Infos: https://www.gottstatt.ch/veranstaltung/5868
SUMMARY:Locus Dei - Olaf Latzel & Sport
PRIORITY:5
X-MICROSOFT-CDO-IMPORTANCE:1
CLASS:PUBLIC
END:VEVENT
END:VCALENDAR
