BEGIN:VCALENDAR
PRODID:-//kirchenweb.ch gmbh//veranstaltungsausgabe v2.0//DE
VERSION:2.0
METHOD:PUBLISH
BEGIN:VEVENT
DTSTART:20260226T190000Z
DTEND:20260226T193000Z
LOCATION:Kirche\, Gottstattstrasse 29\, 2552 Orpund
TRANSP:OPAQUE
SEQUENCE:0
UID:5858-veranstaltung@gottstatt.ch
DTSTAMP:20251111T091421Z
DESCRIPTION:Gemeinsam wollen wir zur Ruhe kommen\, Gott anbeten und den
  Tag mit Liedern und Gebet abschliessen.\n\nKontakt: Pfr. Adrian Müller\n
 \nWeitere Infos: https://www.gottstatt.ch/veranstaltung/5858
SUMMARY:Lobpreisabend
PRIORITY:5
X-MICROSOFT-CDO-IMPORTANCE:1
CLASS:PUBLIC
END:VEVENT
END:VCALENDAR
