BEGIN:VCALENDAR
PRODID:-//kirchenweb.ch gmbh//veranstaltungsausgabe v2.0//DE
VERSION:2.0
METHOD:PUBLISH
BEGIN:VEVENT
DTSTART:20261006T080000Z
DTEND:20261006T090000Z
LOCATION:Tertianum Lindenhof\, Hauptstrasse 205\, 2552 Orpund
TRANSP:OPAQUE
SEQUENCE:0
UID:5847-veranstaltung@gottstatt.ch
DTSTAMP:20251211T090924Z
DESCRIPTION:Kontakt: melissa.amico@gottstatt.ch\n\nWeitere Infos:
  https://www.gottstatt.ch/veranstaltung/5847
SUMMARY:Gottesdienst Tertianum Lindenhof
PRIORITY:5
X-MICROSOFT-CDO-IMPORTANCE:1
CLASS:PUBLIC
END:VEVENT
END:VCALENDAR
