BEGIN:VCALENDAR
PRODID:-//kirchenweb.ch gmbh//veranstaltungsausgabe v2.0//DE
VERSION:2.0
METHOD:PUBLISH
BEGIN:VEVENT
DTSTART:20260528T180000Z
DTEND:20260528T200000Z
LOCATION:Kirchgemeindehaus\, Gottstattstrasse 29\, 2552 Orpund
TRANSP:OPAQUE
SEQUENCE:0
UID:5837-veranstaltung@gottstatt.ch
DTSTAMP:20260304T104132Z
DESCRIPTION:Herzliche Einladung zum Manneforum vom 28. Mai 2026 um 20:00.
 \nAn diesem Abend erwartet euch ein Interview mit Mathias Flückiger zu
  seiner Lebensgeschichte\, Gesundheit\, Vernetzung unter Christen\,
  Einblicke in die Bundesverwaltung\, sowie über Lustiges\, weniger
  Lustiges\, Tatsachen und Illusionen.\n\nKurz gesagt\, es wird offen\,
  persönlich\, mit Tiefgang und Humor.\n\nWo? Kirchgemeindehaus\,
  Gottstattstrasse 29\, Orpund\nAnmeldeschluss: 23. Mai 2026\nAnmeldung
  bitte via www.gottstatt.ch oder QR-Code\nKosten: CHF 10.-\n\nKontakt:
  Pfr. Adrian Müller\n\nWeitere Infos:
  https://www.gottstatt.ch/veranstaltung/5837
SUMMARY:Manneforum
PRIORITY:5
X-MICROSOFT-CDO-IMPORTANCE:1
CLASS:PUBLIC
END:VEVENT
END:VCALENDAR
