BEGIN:VCALENDAR
PRODID:-//kirchenweb.ch gmbh//veranstaltungsausgabe v2.0//DE
VERSION:2.0
METHOD:PUBLISH
BEGIN:VEVENT
DTSTART:20260421T170000Z
DTEND:20260421T210000Z
LOCATION:Kirchgemeindehaus\, Gottstattstrasse 29\, 2552 Orpund
TRANSP:OPAQUE
SEQUENCE:0
UID:5820-veranstaltung@gottstatt.ch
DTSTAMP:20260420T074008Z
DESCRIPTION:Kontakt: melissa.amico@gottstatt.ch\n\nWeitere Infos:
  https://www.gottstatt.ch/veranstaltung/5820
SUMMARY:Sitzung Kirchgemeinderat
PRIORITY:5
X-MICROSOFT-CDO-IMPORTANCE:1
CLASS:PUBLIC
END:VEVENT
END:VCALENDAR
