BEGIN:VCALENDAR
PRODID:-//kirchenweb.ch gmbh//veranstaltungsausgabe v2.0//DE
VERSION:2.0
METHOD:PUBLISH
BEGIN:VEVENT
DTSTART:20260901T100000Z
DTEND:20260901T120000Z
LOCATION:Tenniszentrum\, Meisenweg 15\, 2556 Scheuren
TRANSP:OPAQUE
SEQUENCE:0
UID:5811-veranstaltung@gottstatt.ch
DTSTAMP:20251106T080733Z
DESCRIPTION:Gemeinsam essen in fröhlicher Runde und gemütliches
  Beisammensein!\nWir freuen uns auf zahlreiche Beteiligung und besonders
  über neue Gesichter!\n\n\nKontakt: Frau Vreni Minder	Telefon 032 355 11
  46\n\nWeitere Infos: https://www.gottstatt.ch/veranstaltung/5811
SUMMARY:Mittagstisch Scheuren
PRIORITY:5
X-MICROSOFT-CDO-IMPORTANCE:1
CLASS:PUBLIC
END:VEVENT
END:VCALENDAR
