BEGIN:VCALENDAR
PRODID:-//kirchenweb.ch gmbh//veranstaltungsausgabe v2.0//DE
VERSION:2.0
METHOD:PUBLISH
BEGIN:VEVENT
DTSTART:20261220T084500Z
DTEND:20261220T101500Z
LOCATION:Kirche\, Gottstattstrasse 29\, 2552 Orpund
TRANSP:OPAQUE
SEQUENCE:0
UID:5790-veranstaltung@gottstatt.ch
DTSTAMP:20251027T121830Z
DESCRIPTION:Kirchen-Taxi: \n\nKontakt: Pfr. Adrian Müller\n\nWeitere
  Infos: https://www.gottstatt.ch/veranstaltung/5790
SUMMARY:Gottesdienst zum vierten Advent
PRIORITY:5
X-MICROSOFT-CDO-IMPORTANCE:1
CLASS:PUBLIC
END:VEVENT
END:VCALENDAR
