BEGIN:VCALENDAR
PRODID:-//kirchenweb.ch gmbh//veranstaltungsausgabe v2.0//DE
VERSION:2.0
METHOD:PUBLISH
BEGIN:VEVENT
DTSTART:20261108T180000Z
DTEND:20261108T210000Z
LOCATION:Kirche\, Gottstattstrasse 29\, 2552 Orpund
TRANSP:OPAQUE
SEQUENCE:0
UID:5784-veranstaltung@gottstatt.ch
DTSTAMP:20251027T120302Z
DESCRIPTION:Kontakt: Nicole Jakob\n\nWeitere Infos:
  https://www.gottstatt.ch/veranstaltung/5784
SUMMARY:Jugend Gottesdienst
PRIORITY:5
X-MICROSOFT-CDO-IMPORTANCE:1
CLASS:PUBLIC
END:VEVENT
END:VCALENDAR
