BEGIN:VCALENDAR
PRODID:-//kirchenweb.ch gmbh//veranstaltungsausgabe v2.0//DE
VERSION:2.0
METHOD:PUBLISH
BEGIN:VEVENT
DTSTART:20261108T083000Z
DTEND:20261108T100000Z
LOCATION:Kirchgemeindehaus Meinisberg\, Hintere Gasse 7\, 2554 Meinisberg
TRANSP:OPAQUE
SEQUENCE:0
UID:5783-veranstaltung@gottstatt.ch
DTSTAMP:20251027T120222Z
DESCRIPTION:Kirchen-Taxi:\n\nKontakt: Pfr. Philippe Otti\n\nWeitere Infos:
  https://www.gottstatt.ch/veranstaltung/5783
SUMMARY:Gottesdienst
PRIORITY:5
X-MICROSOFT-CDO-IMPORTANCE:1
CLASS:PUBLIC
END:VEVENT
END:VCALENDAR
