BEGIN:VCALENDAR
PRODID:-//kirchenweb.ch gmbh//veranstaltungsausgabe v2.0//DE
VERSION:2.0
METHOD:PUBLISH
BEGIN:VEVENT
DTSTART:20261101T084500Z
DTEND:20261101T101500Z
LOCATION:Kirche\, Gottstattstrasse 29\, 2552 Orpund
TRANSP:OPAQUE
SEQUENCE:0
UID:5782-veranstaltung@gottstatt.ch
DTSTAMP:20251027T120138Z
DESCRIPTION:Mitwirkung der KUW 6. Klasse\nMit anschliessendem Apéro
 \nKirchen-Taxi: \n\nKontakt: Yvonne Eigenheer\n\nWeitere Infos:
  https://www.gottstatt.ch/veranstaltung/5782
SUMMARY:Gottesdienst zum Reformationssonntag
PRIORITY:5
X-MICROSOFT-CDO-IMPORTANCE:1
CLASS:PUBLIC
END:VEVENT
END:VCALENDAR
