BEGIN:VCALENDAR
PRODID:-//kirchenweb.ch gmbh//veranstaltungsausgabe v2.0//DE
VERSION:2.0
METHOD:PUBLISH
BEGIN:VEVENT
DTSTART:20261025T090000Z
DTEND:20261025T103000Z
LOCATION:Kirche\, Gottstattstrasse 29\, 2552 Orpund
TRANSP:OPAQUE
SEQUENCE:0
UID:5781-veranstaltung@gottstatt.ch
DTSTAMP:20251027T114902Z
DESCRIPTION:Mitwirkung der Musikgesellschaft Orpund.\nAnschliessend an den
  Gottesdienst Mittagessen für die Angemeldeten\nKirchen-Taxi: \n\n\n
 \nKontakt: Pfrn. Esther Wiesmann\n\nWeitere Infos:
  https://www.gottstatt.ch/veranstaltung/5781
SUMMARY:Gottesdienst zum Alleinstehendentag
PRIORITY:5
X-MICROSOFT-CDO-IMPORTANCE:1
CLASS:PUBLIC
END:VEVENT
END:VCALENDAR
