BEGIN:VCALENDAR
PRODID:-//kirchenweb.ch gmbh//veranstaltungsausgabe v2.0//DE
VERSION:2.0
METHOD:PUBLISH
BEGIN:VEVENT
DTSTART:20261018T170000Z
DTEND:20261018T183000Z
LOCATION:Haus der Gemeindeverwaltung\, Hauptstrasse 62\, 2553 Safnern
TRANSP:OPAQUE
SEQUENCE:0
UID:5780-veranstaltung@gottstatt.ch
DTSTAMP:20251027T114743Z
DESCRIPTION:Kirchen-Taxi:\n\nKontakt: Pfr. Adrian Müller\n\nWeitere
  Infos: https://www.gottstatt.ch/veranstaltung/5780
SUMMARY:Abendgottesdienst
PRIORITY:5
X-MICROSOFT-CDO-IMPORTANCE:1
CLASS:PUBLIC
END:VEVENT
END:VCALENDAR
