BEGIN:VCALENDAR
PRODID:-//kirchenweb.ch gmbh//veranstaltungsausgabe v2.0//DE
VERSION:2.0
METHOD:PUBLISH
BEGIN:VEVENT
DTSTART:20261004T073000Z
DTEND:20261004T090000Z
LOCATION:Kirchgemeindehaus Meinisberg\, Hintere Gasse 7\, 2554 Meinisberg
TRANSP:OPAQUE
SEQUENCE:0
UID:5778-veranstaltung@gottstatt.ch
DTSTAMP:20251027T122301Z
DESCRIPTION:Kirchen-Taxi: \n\nKontakt: Pfrn. Esther Wiesmann\n\nWeitere
  Infos: https://www.gottstatt.ch/veranstaltung/5778
SUMMARY:Gottesdienst zum Erntedank
PRIORITY:5
X-MICROSOFT-CDO-IMPORTANCE:1
CLASS:PUBLIC
END:VEVENT
END:VCALENDAR
