BEGIN:VCALENDAR
PRODID:-//kirchenweb.ch gmbh//veranstaltungsausgabe v2.0//DE
VERSION:2.0
METHOD:PUBLISH
BEGIN:VEVENT
DTSTART:20260920T074500Z
DTEND:20260920T091500Z
LOCATION:Kirche\, Gottstattstrasse 29\, 2552 Orpund
TRANSP:OPAQUE
SEQUENCE:0
UID:5776-veranstaltung@gottstatt.ch
DTSTAMP:20251027T114036Z
DESCRIPTION:Kirchen-Taxi: \n\n\nKontakt: Pfr. Philippe Otti\n\nWeitere
  Infos: https://www.gottstatt.ch/veranstaltung/5776
SUMMARY:Gottesdienst zum Bettag mit Abendmahl
PRIORITY:5
X-MICROSOFT-CDO-IMPORTANCE:1
CLASS:PUBLIC
END:VEVENT
END:VCALENDAR
