BEGIN:VCALENDAR
PRODID:-//kirchenweb.ch gmbh//veranstaltungsausgabe v2.0//DE
VERSION:2.0
METHOD:PUBLISH
BEGIN:VEVENT
DTSTART:20260913T074500Z
DTEND:20260913T091500Z
LOCATION:Kirche\, Gottstattstrasse 29\, 2552 Orpund
TRANSP:OPAQUE
SEQUENCE:0
UID:5775-veranstaltung@gottstatt.ch
DTSTAMP:20260409T072510Z
DESCRIPTION:Mitwirkung der 2. KUW Klasse\nMit anschliessendem Apéro\n\n\n
 \nKontakt: Yvonne Eigenheer\n\nWeitere Infos:
  https://www.gottstatt.ch/veranstaltung/5775
SUMMARY:Gottesdienst
PRIORITY:5
X-MICROSOFT-CDO-IMPORTANCE:1
CLASS:PUBLIC
END:VEVENT
END:VCALENDAR
