BEGIN:VCALENDAR
PRODID:-//kirchenweb.ch gmbh//veranstaltungsausgabe v2.0//DE
VERSION:2.0
METHOD:PUBLISH
BEGIN:VEVENT
DTSTART:20260906T073000Z
DTEND:20260906T090000Z
LOCATION:Kirchgemeindehaus Meinisberg\, Hintere Gasse 7\, 2554 Meinisberg
TRANSP:OPAQUE
SEQUENCE:0
UID:5774-veranstaltung@gottstatt.ch
DTSTAMP:20251027T115859Z
DESCRIPTION:Kirchen-Taxi:\n\nKontakt: Pfr. Adrian Müller\n\nWeitere
  Infos: https://www.gottstatt.ch/veranstaltung/5774
SUMMARY:Gottesdienst
PRIORITY:5
X-MICROSOFT-CDO-IMPORTANCE:1
CLASS:PUBLIC
END:VEVENT
END:VCALENDAR
