BEGIN:VCALENDAR
PRODID:-//kirchenweb.ch gmbh//veranstaltungsausgabe v2.0//DE
VERSION:2.0
METHOD:PUBLISH
BEGIN:VEVENT
DTSTART:20260830T074500Z
DTEND:20260830T091500Z
LOCATION:Kirche\, Gottstattstrasse 29\, 2552 Orpund
TRANSP:OPAQUE
SEQUENCE:0
UID:5768-veranstaltung@gottstatt.ch
DTSTAMP:20260212T101112Z
DESCRIPTION:Kirchen-Taxi:\n\n\nKontakt: Pfr. Adrian Müller\n\nWeitere
  Infos: https://www.gottstatt.ch/veranstaltung/5768
SUMMARY:Gottesdienst zum Bibelsonntag
PRIORITY:5
X-MICROSOFT-CDO-IMPORTANCE:1
CLASS:PUBLIC
END:VEVENT
END:VCALENDAR
