BEGIN:VCALENDAR
PRODID:-//kirchenweb.ch gmbh//veranstaltungsausgabe v2.0//DE
VERSION:2.0
METHOD:PUBLISH
BEGIN:VEVENT
DTSTART:20260809T074500Z
DTEND:20260809T091500Z
LOCATION:Kirche\, Gottstattstrasse 29\, 2552 Orpund
TRANSP:OPAQUE
SEQUENCE:0
UID:5766-veranstaltung@gottstatt.ch
DTSTAMP:20251023T090100Z
DESCRIPTION:Mit anschliessendem Apéro\nKirchen-Taxi:\n\nKontakt: Yvonne
  Eigenheer\n\nWeitere Infos: https://www.gottstatt.ch/veranstaltung/5766
SUMMARY:Neu - Anfang - Gottesdienst mit Segnung
PRIORITY:5
X-MICROSOFT-CDO-IMPORTANCE:1
CLASS:PUBLIC
END:VEVENT
END:VCALENDAR
